BEGIN:VCALENDAR
VERSION:2.0
PRODID:-//hacksw/handcal//NONSGML v1.0//EN
CALSCALE:GREGORIAN
BEGIN:VEVENT
UID:69e5e99184155
DTSTART:20220424T193000Z
DTSTAMP:20260420T085337Z
DTEND:20220425T193000Z
LOCATION:Online
DESCRIPTION:Nano Tenchnology Event
URL;VALUE=URI:https://nanosummit.conferenceseries.com/
SUMMARY:39th Global Summit on Nanoscience and Technology (Nano Summit
 t 2022)
END:VEVENT
END:VCALENDAR
