BEGIN:VCALENDAR
VERSION:2.0
PRODID:-//hacksw/handcal//NONSGML v1.0//EN
CALSCALE:GREGORIAN
BEGIN:VEVENT
UID:69e5e9a341d70
DTSTART:20220320T203000Z
DTSTAMP:20260420T085355Z
DTEND:20220321T203000Z
LOCATION:Online
DESCRIPTION:Nano Tenchnology Event
URL;VALUE=URI:https://nanomaterials.insightconferences.com/
SUMMARY:35th International Conference on Nanomaterials and Nanotechno
 ology
END:VEVENT
END:VCALENDAR
