BEGIN:VCALENDAR
VERSION:2.0
PRODID:-//hacksw/handcal//NONSGML v1.0//EN
CALSCALE:GREGORIAN
BEGIN:VEVENT
UID:69e5e95580409
DTSTART:20220322T193000Z
DTSTAMP:20260420T085237Z
DTEND:20220323T193000Z
LOCATION:London
DESCRIPTION:Nano Tenchnology Event
URL;VALUE=URI:https://nanotechnologyexpo.conferenceseries.com/
SUMMARY:22nd Worldwide Congress on Nanotechnology and Materials Engin
 neering
END:VEVENT
END:VCALENDAR
