BEGIN:VCALENDAR
VERSION:2.0
PRODID:-//hacksw/handcal//NONSGML v1.0//EN
CALSCALE:GREGORIAN
BEGIN:VEVENT
UID:69e5e9d37f0c8
DTSTART:20220324T193000Z
DTSTAMP:20260420T085443Z
DTEND:20220325T193000Z
LOCATION:Berlin
DESCRIPTION:Nano Tenchnology Event
URL;VALUE=URI:https://nanomedicine.healthconferences.org
SUMMARY:18th Nanotechnology and Nanomedicine Congress
END:VEVENT
END:VCALENDAR
