BEGIN:VCALENDAR
VERSION:2.0
PRODID:-//hacksw/handcal//NONSGML v1.0//EN
CALSCALE:GREGORIAN
BEGIN:VEVENT
UID:69e5e9bb5ab85
DTSTART:20220324T193000Z
DTSTAMP:20260420T085419Z
DTEND:20220325T193000Z
LOCATION:Berlin
DESCRIPTION:Nano Tenchnology Event
URL;VALUE=URI:https://nano.materialsconferences.com/
SUMMARY:35th International Conference on Nanomaterials and Nanotechno
 ology
END:VEVENT
END:VCALENDAR
