BEGIN:VCALENDAR
VERSION:2.0
PRODID:-//hacksw/handcal//NONSGML v1.0//EN
CALSCALE:GREGORIAN
BEGIN:VEVENT
UID:69e5e94a4bc2d
DTSTART:20220424T193000Z
DTSTAMP:20260420T085226Z
DTEND:20220425T193000Z
LOCATION:Online
DESCRIPTION:Nano Tenchnology Event
URL;VALUE=URI:https://nanotechnology.pharmaceuticalconferences.com/
SUMMARY:18th International Conference and Exhibition on Nanomedicine 
  and Pharmaceutical Nanotechnology
END:VEVENT
END:VCALENDAR
