BEGIN:VCALENDAR
VERSION:2.0
PRODID:-//hacksw/handcal//NONSGML v1.0//EN
CALSCALE:GREGORIAN
BEGIN:VEVENT
UID:69e5e955a1b6f
DTSTART:20220426T193000Z
DTSTAMP:20260420T085237Z
DTEND:20220427T193000Z
LOCATION:Barcelona
DESCRIPTION:Nano Tenchnology Event
URL;VALUE=URI:https://nanocongress.nanotechconferences.org/
SUMMARY:34th Nano Congress for Future Advancements
END:VEVENT
END:VCALENDAR
