BEGIN:VCALENDAR
VERSION:2.0
PRODID:-//hacksw/handcal//NONSGML v1.0//EN
CALSCALE:GREGORIAN
BEGIN:VEVENT
UID:69e5e9541a520
DTSTART:20220517T193000Z
DTSTAMP:20260420T085236Z
DTEND:20220518T193000Z
LOCATION:London
DESCRIPTION:Nano Tenchnology Event
URL;VALUE=URI:https://biomaterials.insightconferences.com/
SUMMARY:7th Annual Conference and Expo on Biomaterials
END:VEVENT
END:VCALENDAR
