BEGIN:VCALENDAR
VERSION:2.0
PRODID:-//hacksw/handcal//NONSGML v1.0//EN
CALSCALE:GREGORIAN
BEGIN:VEVENT
UID:69e5e9499b4d3
DTSTART:20220517T193000Z
DTSTAMP:20260420T085225Z
DTEND:20220518T193000Z
LOCATION:London
DESCRIPTION:Nano Tenchnology Event
URL;VALUE=URI:https://nanoscience.annualcongress.com/
SUMMARY:35th International Conference on Nanoscience\, Nanotechnology
 y and Nanoengineering (Euro Nanomat 2022)
END:VEVENT
END:VCALENDAR
