BEGIN:VCALENDAR
VERSION:2.0
PRODID:-//hacksw/handcal//NONSGML v1.0//EN
CALSCALE:GREGORIAN
BEGIN:VEVENT
UID:69e5e94b4acf1
DTSTART:20220519T193000Z
DTSTAMP:20260420T085227Z
DTEND:20220520T193000Z
LOCATION:London
DESCRIPTION:Nano Tenchnology Event
URL;VALUE=URI:https://nanotechnology.nanotechconferences.org/
SUMMARY:39th Global Nanotechnology Congress
END:VEVENT
END:VCALENDAR
