BEGIN:VCALENDAR
VERSION:2.0
PRODID:-//hacksw/handcal//NONSGML v1.0//EN
CALSCALE:GREGORIAN
BEGIN:VEVENT
UID:69e5e954a1c27
DTSTART:20220612T193000Z
DTSTAMP:20260420T085236Z
DTEND:20220613T193000Z
LOCATION:Paris
DESCRIPTION:Nano Tenchnology Event
URL;VALUE=URI:https://nanoscience.conferenceseries.com/
SUMMARY:4th Internatioal Conference and Expo on Nanoscience and Nano 
  Technology (Nanoscience 2022)
END:VEVENT
END:VCALENDAR
