BEGIN:VCALENDAR
VERSION:2.0
PRODID:-//hacksw/handcal//NONSGML v1.0//EN
CALSCALE:GREGORIAN
BEGIN:VEVENT
UID:69e5e94ac4c7b
DTSTART:20220703T193000Z
DTSTAMP:20260420T085226Z
DTEND:20220704T193000Z
LOCATION:London
DESCRIPTION:Nano Tenchnology Event
URL;VALUE=URI:https://nanotechnology.conferenceseries.com/
SUMMARY:34th International Conference and Expo on Nanosciences and Na
 anotechnology
END:VEVENT
END:VCALENDAR
