BEGIN:VCALENDAR
VERSION:2.0
PRODID:-//hacksw/handcal//NONSGML v1.0//EN
CALSCALE:GREGORIAN
BEGIN:VEVENT
UID:69e5e940eabdd
DTSTART:20220710T193000Z
DTSTAMP:20260420T085216Z
DTEND:20220711T193000Z
LOCATION:Singapore City
DESCRIPTION:Nano Tenchnology Event
URL;VALUE=URI:https://nanomaterials.nanotechconferences.org/
SUMMARY:30th International Conference on Nanomedicine and Nanomateria
 als
END:VEVENT
END:VCALENDAR
