BEGIN:VCALENDAR
VERSION:2.0
PRODID:-//hacksw/handcal//NONSGML v1.0//EN
CALSCALE:GREGORIAN
BEGIN:VEVENT
UID:69e5cf5992937
DTSTART:20220731T193000Z
DTSTAMP:20260420T070145Z
DTEND:20220801T193000Z
LOCATION:Rome
DESCRIPTION:Nano Tenchnology Event
URL;VALUE=URI:https://advancednano.nanotechconferences.org/
SUMMARY:38th International Conference on Advanced Nanotechnology
END:VEVENT
END:VCALENDAR
