BEGIN:VCALENDAR
VERSION:2.0
PRODID:-//hacksw/handcal//NONSGML v1.0//EN
CALSCALE:GREGORIAN
BEGIN:VEVENT
UID:69e5cf59d3502
DTSTART:20220727T193000Z
DTSTAMP:20260420T070145Z
DTEND:20220728T193000Z
LOCATION:Bangkok
DESCRIPTION:Nano Tenchnology Event
URL;VALUE=URI:https://nano-medicine.pharmaceuticalconferences.com/
SUMMARY:2nd International Conference on Nanomedicine and Drug Deliver
 ry
END:VEVENT
END:VCALENDAR
