BEGIN:VCALENDAR
VERSION:2.0
PRODID:-//hacksw/handcal//NONSGML v1.0//EN
CALSCALE:GREGORIAN
BEGIN:VEVENT
UID:69e64a4f7bb8a
DTSTART:20230228T203000Z
DTSTAMP:20260420T154623Z
DTEND:20230302T203000Z
LOCATION:Suzhou
DESCRIPTION:Nano Tenchnology Event
URL;VALUE=URI:http://www.chinanosz.com/index.php
SUMMARY:CHInano Conference & Expo
END:VEVENT
END:VCALENDAR
