BEGIN:VCALENDAR
VERSION:2.0
PRODID:-//hacksw/handcal//NONSGML v1.0//EN
CALSCALE:GREGORIAN
BEGIN:VEVENT
UID:69e7c01a72157
DTSTART:20220701T193000Z
DTSTAMP:20260421T182114Z
DTEND:20220708T193000Z
LOCATION:Thessaloniki
DESCRIPTION:Nano Tenchnology Event
URL;VALUE=URI:https://www.nanotexnology.com/
SUMMARY:NANOTEXNOLOGY 2022
END:VEVENT
END:VCALENDAR
