BEGIN:VCALENDAR
VERSION:2.0
PRODID:-//hacksw/handcal//NONSGML v1.0//EN
CALSCALE:GREGORIAN
BEGIN:VEVENT
UID:69e7c01901409
DTSTART:20220704T193000Z
DTSTAMP:20260421T182113Z
DTEND:20220707T193000Z
LOCATION:Thessaloniki
DESCRIPTION:Nano Tenchnology Event
URL;VALUE=URI:https://www.nanotexnology.com/index.php/nn
SUMMARY:19th International Conference on Nanosciences &amp\; Nanotech
 hnologies (NN22)
END:VEVENT
END:VCALENDAR
