BEGIN:VCALENDAR
VERSION:2.0
PRODID:-//hacksw/handcal//NONSGML v1.0//EN
CALSCALE:GREGORIAN
BEGIN:VEVENT
UID:69e7c27152731
DTSTART:20220705T193000Z
DTSTAMP:20260421T183113Z
DTEND:20220706T193000Z
LOCATION:Thessaloniki
DESCRIPTION:Nano Tenchnology Event
URL;VALUE=URI:https://www.nanotexnology.com/index.php/i3d
SUMMARY:5th International Conference on 3D Printing &amp\; Bioprintin
 ng\, AI\, Digital &amp\; Additive Manufacturing (I3D22)
END:VEVENT
END:VCALENDAR
