BEGIN:VCALENDAR
VERSION:2.0
PRODID:-//hacksw/handcal//NONSGML v1.0//EN
CALSCALE:GREGORIAN
BEGIN:VEVENT
UID:69e7bff91d873
DTSTART:20220701T193000Z
DTSTAMP:20260421T182041Z
DTEND:20220708T193000Z
LOCATION:Thessaloniki
DESCRIPTION:Nano Tenchnology Event
URL;VALUE=URI:https://www.nanotexnology.com/index.php/about-isson
SUMMARY:16th International Summer Schools on Nanosciences &amp\; Nano
 otechnologies\, Organic Electronics &amp\; Nanomedicine (ISSON22)
END:VEVENT
END:VCALENDAR
