BEGIN:VCALENDAR
VERSION:2.0
PRODID:-//hacksw/handcal//NONSGML v1.0//EN
CALSCALE:GREGORIAN
BEGIN:VEVENT
UID:69e7bff868caf
DTSTART:20220703T193000Z
DTSTAMP:20260421T182040Z
DTEND:20220707T193000Z
LOCATION:Thessaloniki
DESCRIPTION:Nano Tenchnology Event
URL;VALUE=URI:https://www.nanotexnology.com/index.php/expo
SUMMARY:12th International Exhibition on Nanotechnologies\, Organic E
 Electronics &amp\; Nanomedicine (EXPO22)
END:VEVENT
END:VCALENDAR
