BEGIN:VCALENDAR
VERSION:2.0
PRODID:-//hacksw/handcal//NONSGML v1.0//EN
CALSCALE:GREGORIAN
BEGIN:VEVENT
UID:69e7c00306449
DTSTART:20220704T193000Z
DTSTAMP:20260421T182051Z
DTEND:20220706T193000Z
LOCATION:Thessaloniki
DESCRIPTION:Nano Tenchnology Event
URL;VALUE=URI:https://www.nanotexnology.com/index.php/about-business-
 -forum
SUMMARY:NANOTEXNOLOGY 2022 Business Forum and Matchmaking Event
END:VEVENT
END:VCALENDAR
