BEGIN:VCALENDAR
VERSION:2.0
PRODID:-//hacksw/handcal//NONSGML v1.0//EN
CALSCALE:GREGORIAN
BEGIN:VEVENT
UID:69e5cf7a5073b
DTSTART:20221107T203000Z
DTSTAMP:20260420T070218Z
DTEND:20221108T203000Z
LOCATION:Budapest
DESCRIPTION:Nano Tenchnology Event
URL;VALUE=URI:https://nano.nanotechconferences.org/
SUMMARY:3rd World Congress on Nanotechnology and Advanced Materials
END:VEVENT
END:VCALENDAR
