BEGIN:VCALENDAR
VERSION:2.0
PRODID:-//hacksw/handcal//NONSGML v1.0//EN
CALSCALE:GREGORIAN
BEGIN:VEVENT
UID:69e5cf161356c
DTSTART:20221115T203000Z
DTSTAMP:20260420T070038Z
DTEND:20221116T203000Z
LOCATION:Barcelona
DESCRIPTION:Nano Tenchnology Event
URL;VALUE=URI:https://nanoexpo.conferenceseries.com/
SUMMARY:36th International Conference on Nanotechnology & Expo
END:VEVENT
END:VCALENDAR
