BEGIN:VCALENDAR
VERSION:2.0
PRODID:-//hacksw/handcal//NONSGML v1.0//EN
CALSCALE:GREGORIAN
BEGIN:VEVENT
UID:69e5cf11ad0d8
DTSTART:20221106T203000Z
DTSTAMP:20260420T070033Z
DTEND:20221107T203000Z
LOCATION:Online
DESCRIPTION:Nano Tenchnology Event
URL;VALUE=URI:https://europe.materialsconferences.com/
SUMMARY:27th International Webinar on Advanced Materials & Nanotechno
 ology
END:VEVENT
END:VCALENDAR
