BEGIN:VCALENDAR
VERSION:2.0
PRODID:-//hacksw/handcal//NONSGML v1.0//EN
CALSCALE:GREGORIAN
BEGIN:VEVENT
UID:69e5cf641f7a6
DTSTART:20221120T203000Z
DTSTAMP:20260420T070156Z
DTEND:20221121T203000Z
LOCATION:Singapore
DESCRIPTION:Nano Tenchnology Event
URL;VALUE=URI:https://advancedmaterials.physicsmeeting.com/
SUMMARY:27th International Conference on Advanced Materials & Nanotec
 chnology
END:VEVENT
END:VCALENDAR
