BEGIN:VCALENDAR
VERSION:2.0
PRODID:-//hacksw/handcal//NONSGML v1.0//EN
CALSCALE:GREGORIAN
BEGIN:VEVENT
UID:69e5e9425b6d2
DTSTART:20220627T193000Z
DTSTAMP:20260420T085218Z
DTEND:20220627T193000Z
LOCATION:Online
DESCRIPTION:Nano Tenchnology Event
URL;VALUE=URI:https://advancednano.nanotechconferences.org/
SUMMARY:25th World Nanotechnology Congress
END:VEVENT
END:VCALENDAR
