BEGIN:VCALENDAR
VERSION:2.0
PRODID:-//hacksw/handcal//NONSGML v1.0//EN
CALSCALE:GREGORIAN
BEGIN:VEVENT
UID:69e5e95527be3
DTSTART:20220619T193000Z
DTSTAMP:20260420T085237Z
DTEND:20220620T193000Z
LOCATION:Paris
DESCRIPTION:Nano Tenchnology Event
URL;VALUE=URI:https://materialscience.annualcongress.com/registration
 n.php
SUMMARY:29th International Conference on  Materials Science and Nanot
 technology
END:VEVENT
END:VCALENDAR
