BEGIN:VCALENDAR
VERSION:2.0
PRODID:-//hacksw/handcal//NONSGML v1.0//EN
CALSCALE:GREGORIAN
BEGIN:VEVENT
UID:69e5cf5b6b005
DTSTART:20220915T193000Z
DTSTAMP:20260420T070147Z
DTEND:20220916T193000Z
LOCATION:Vancouver
DESCRIPTION:Nano Tenchnology Event
URL;VALUE=URI:https://nanomedicine.pharmaceuticalconferences.com/usa/
SUMMARY:4th International Conference and Exhibition on Pharmaceutical
 l Nanotechnology and Nanomedicine
END:VEVENT
END:VCALENDAR
