BEGIN:VCALENDAR
VERSION:2.0
PRODID:-//hacksw/handcal//NONSGML v1.0//EN
CALSCALE:GREGORIAN
BEGIN:VEVENT
UID:69e5e9bbe537a
DTSTART:20220717T193000Z
DTSTAMP:20260420T085419Z
DTEND:20220718T193000Z
LOCATION:London
DESCRIPTION:Nano Tenchnology Event
URL;VALUE=URI:https://nanomaterials.alliedacademies.com/2022
SUMMARY:Global Online Summit on  Nanoscience and Nanotechnology
END:VEVENT
END:VCALENDAR
