BEGIN:VCALENDAR
VERSION:2.0
PRODID:-//hacksw/handcal//NONSGML v1.0//EN
CALSCALE:GREGORIAN
BEGIN:VEVENT
UID:69e5cf639048e
DTSTART:20221120T203000Z
DTSTAMP:20260420T070155Z
DTEND:20221121T203000Z
LOCATION:Singapore
DESCRIPTION:Nano Tenchnology Event
URL;VALUE=URI:https://nanotech.conferenceseries.com/
SUMMARY:34th International Conference on  Advanced Nanoscience and Na
 anotechnology
END:VEVENT
END:VCALENDAR
