BEGIN:VCALENDAR
VERSION:2.0
PRODID:-//hacksw/handcal//NONSGML v1.0//EN
CALSCALE:GREGORIAN
BEGIN:VEVENT
UID:69e5cf7f5b60b
DTSTART:20221113T203000Z
DTSTAMP:20260420T070223Z
DTEND:20221114T203000Z
LOCATION:London
DESCRIPTION:Nano Tenchnology Event
URL;VALUE=URI:https://emergingmaterials.materialsconferences.com/
SUMMARY:20th International Conference on  Emerging Materials and Nano
 otechnology
END:VEVENT
END:VCALENDAR
