BEGIN:VCALENDAR
VERSION:2.0
PRODID:-//hacksw/handcal//NONSGML v1.0//EN
CALSCALE:GREGORIAN
BEGIN:VEVENT
UID:69e5e99346a2d
DTSTART:20220626T193000Z
DTSTAMP:20260420T085339Z
DTEND:20220627T193000Z
LOCATION:Paris
DESCRIPTION:Nano Tenchnology Event
URL;VALUE=URI:https://laser.conferenceseries.com/
SUMMARY:2nd European Meet on Laser\, Optics & Photonics
END:VEVENT
END:VCALENDAR
