BEGIN:VCALENDAR
VERSION:2.0
PRODID:-//hacksw/handcal//NONSGML v1.0//EN
CALSCALE:GREGORIAN
BEGIN:VEVENT
UID:69e5e994476fb
DTSTART:20220626T193000Z
DTSTAMP:20260420T085340Z
DTEND:20220627T193000Z
LOCATION:London
DESCRIPTION:Nano Tenchnology Event
URL;VALUE=URI:https://genetherapy.geneticconferences.com/venue-hospit
 tality.php
SUMMARY:3rd International Conference on Cell and Gene Therapy
END:VEVENT
END:VCALENDAR
