BEGIN:VCALENDAR
VERSION:2.0
PRODID:-//hacksw/handcal//NONSGML v1.0//EN
CALSCALE:GREGORIAN
BEGIN:VEVENT
UID:69e5e9bbc098f
DTSTART:20220626T193000Z
DTSTAMP:20260420T085419Z
DTEND:20220627T193000Z
LOCATION:London
DESCRIPTION:Nano Tenchnology Event
URL;VALUE=URI:https://braininjury.conferenceseries.com/
SUMMARY:BRAIN INJURY 2022
END:VEVENT
END:VCALENDAR
