BEGIN:VCALENDAR
VERSION:2.0
PRODID:-//hacksw/handcal//NONSGML v1.0//EN
CALSCALE:GREGORIAN
BEGIN:VEVENT
UID:69e5e9a3674b6
DTSTART:20220628T193000Z
DTSTAMP:20260420T085355Z
DTEND:20220629T193000Z
LOCATION:Singapore City
DESCRIPTION:Nano Tenchnology Event
URL;VALUE=URI:https://medicine.pharmaceuticalconferences.com/
SUMMARY:22nd International Pharmaceutical Conference and Expo
END:VEVENT
END:VCALENDAR
