BEGIN:VCALENDAR
VERSION:2.0
PRODID:-//hacksw/handcal//NONSGML v1.0//EN
CALSCALE:GREGORIAN
BEGIN:VEVENT
UID:69e5e956a387f
DTSTART:20220713T193000Z
DTSTAMP:20260420T085238Z
DTEND:20220714T193000Z
LOCATION:Dublin
DESCRIPTION:Nano Tenchnology Event
URL;VALUE=URI:https://biomedicalresearch.conferenceseries.com/
SUMMARY:5th International Conference on Biomedical\, Biopharma and Cl
 linical Research
END:VEVENT
END:VCALENDAR
