BEGIN:VCALENDAR
VERSION:2.0
PRODID:-//hacksw/handcal//NONSGML v1.0//EN
CALSCALE:GREGORIAN
BEGIN:VEVENT
UID:69e5e9a2d436d
DTSTART:20220717T193000Z
DTSTAMP:20260420T085354Z
DTEND:20220718T193000Z
LOCATION:Online
DESCRIPTION:Nano Tenchnology Event
URL;VALUE=URI:https://nanomedicine.conferenceseries.com/
SUMMARY:International Summit on Nanomedicine and Robotics
END:VEVENT
END:VCALENDAR
