BEGIN:VCALENDAR
VERSION:2.0
PRODID:-//hacksw/handcal//NONSGML v1.0//EN
CALSCALE:GREGORIAN
BEGIN:VEVENT
UID:69e5e942b10c1
DTSTART:20220727T193000Z
DTSTAMP:20260420T085218Z
DTEND:20220728T193000Z
LOCATION:Rome
DESCRIPTION:Nano Tenchnology Event
URL;VALUE=URI:https://nano-medicine.pharmaceuticalconferences.com/
SUMMARY:International Conference on Nanomedicine & Drug Delivery
END:VEVENT
END:VCALENDAR
