BEGIN:VCALENDAR
VERSION:2.0
PRODID:-//hacksw/handcal//NONSGML v1.0//EN
CALSCALE:GREGORIAN
BEGIN:VEVENT
UID:69e5cf6499dba
DTSTART:20221012T203000Z
DTSTAMP:20260420T070156Z
DTEND:20221013T203000Z
LOCATION:Osaka
DESCRIPTION:Nano Tenchnology Event
URL;VALUE=URI:https://nanomedicine.nanotechconferences.org/
SUMMARY:4th International Conference on  Nanomedicine and Nanotechnol
 logy
END:VEVENT
END:VCALENDAR
