BEGIN:VCALENDAR
VERSION:2.0
PRODID:-//hacksw/handcal//NONSGML v1.0//EN
CALSCALE:GREGORIAN
BEGIN:VEVENT
UID:69e5cf0caf5be
DTSTART:20221123T203000Z
DTSTAMP:20260420T070028Z
DTEND:20221124T203000Z
LOCATION:Berlin
DESCRIPTION:Nano Tenchnology Event
URL;VALUE=URI:https://laser-optics.conferenceseries.com/
SUMMARY:European Congress on Laser\, Optics and Photonics (Laser Opti
 ics 2022)
END:VEVENT
END:VCALENDAR
