BEGIN:VCALENDAR
VERSION:2.0
PRODID:-//hacksw/handcal//NONSGML v1.0//EN
CALSCALE:GREGORIAN
BEGIN:VEVENT
UID:69e5cf1032462
DTSTART:20221204T203000Z
DTSTAMP:20260420T070032Z
DTEND:20221205T203000Z
LOCATION:Zurich
DESCRIPTION:Nano Tenchnology Event
URL;VALUE=URI:https://drugdevelopment.pharmaceuticalconferences.com/
SUMMARY:Annual Meeting on Pharmaceutical Science and Drug Manufacturi
 ing and Development (Drugdevelopment-2022)
END:VEVENT
END:VCALENDAR
