BEGIN:VCALENDAR
VERSION:2.0
PRODID:-//hacksw/handcal//NONSGML v1.0//EN
CALSCALE:GREGORIAN
BEGIN:VEVENT
UID:69e5e9562869d
DTSTART:20220726T193000Z
DTSTAMP:20260420T085238Z
DTEND:20220727T193000Z
LOCATION:Wroclaw
DESCRIPTION:Nano Tenchnology Event
URL;VALUE=URI:https://plantphysiology.conferenceseries.com/
SUMMARY:6th International Conference on Plant Science & Physiology
END:VEVENT
END:VCALENDAR
