BEGIN:VCALENDAR
VERSION:2.0
PRODID:-//hacksw/handcal//NONSGML v1.0//EN
CALSCALE:GREGORIAN
BEGIN:VEVENT
UID:69e5cf182e672
DTSTART:20220810T193000Z
DTSTAMP:20260420T070040Z
DTEND:20220811T193000Z
LOCATION:Paris
DESCRIPTION:Nano Tenchnology Event
URL;VALUE=URI:https://foodchemistry.healthconferences.org/
SUMMARY:5th European Food Chemistry and Drug Safety Congress
END:VEVENT
END:VCALENDAR
