BEGIN:VCALENDAR
VERSION:2.0
PRODID:-//hacksw/handcal//NONSGML v1.0//EN
CALSCALE:GREGORIAN
BEGIN:VEVENT
UID:69e5cf0c23ccf
DTSTART:20220822T193000Z
DTSTAMP:20260420T070028Z
DTEND:20220822T193000Z
LOCATION:Online
DESCRIPTION:Nano Tenchnology Event
URL;VALUE=URI:https://foodtechnology.nutritionalconference.com/
SUMMARY:5th International Conference on Nutrition\, Food Science and 
  Technology
END:VEVENT
END:VCALENDAR
