BEGIN:VCALENDAR
VERSION:2.0
PRODID:-//hacksw/handcal//NONSGML v1.0//EN
CALSCALE:GREGORIAN
BEGIN:VEVENT
UID:69e5cf7950f70
DTSTART:20221012T203000Z
DTSTAMP:20260420T070217Z
DTEND:20221013T203000Z
LOCATION:Online
DESCRIPTION:Nano Tenchnology Event
URL;VALUE=URI:https://green-catalysis.conferenceseries.com/
SUMMARY:3rd International Conference on Green Chemistry and Catalysis
END:VEVENT
END:VCALENDAR
