BEGIN:VCALENDAR
VERSION:2.0
PRODID:-//hacksw/handcal//NONSGML v1.0//EN
CALSCALE:GREGORIAN
BEGIN:VEVENT
UID:69e5cf1132a43
DTSTART:20221018T203000Z
DTSTAMP:20260420T070033Z
DTEND:20221019T203000Z
LOCATION:Manila
DESCRIPTION:Nano Tenchnology Event
URL;VALUE=URI:https://cropscience.agriconferences.com/
SUMMARY:2nd World Conference on Agro-Ecology and Crop Science
END:VEVENT
END:VCALENDAR
