BEGIN:VCALENDAR
VERSION:2.0
PRODID:-//hacksw/handcal//NONSGML v1.0//EN
CALSCALE:GREGORIAN
BEGIN:VEVENT
UID:69e5cf0fce960
DTSTART:20221023T203000Z
DTSTAMP:20260420T070031Z
DTEND:20221024T203000Z
LOCATION:Dublin
DESCRIPTION:Nano Tenchnology Event
URL;VALUE=URI:https://europe.plantscienceconferences.com/
SUMMARY:8th Global Summit on Plant Science
END:VEVENT
END:VCALENDAR
