BEGIN:VCALENDAR
VERSION:2.0
PRODID:-//hacksw/handcal//NONSGML v1.0//EN
CALSCALE:GREGORIAN
BEGIN:VEVENT
UID:69e5cf12b1489
DTSTART:20221109T203000Z
DTSTAMP:20260420T070034Z
DTEND:20221110T203000Z
LOCATION:Vancouver
DESCRIPTION:Nano Tenchnology Event
URL;VALUE=URI:https://foodchemistry.conferenceseries.com/
SUMMARY:6th International Conference on Food Chemistry\, Nutrition an
 nd Safety
END:VEVENT
END:VCALENDAR
