BEGIN:VCALENDAR
VERSION:2.0
PRODID:-//hacksw/handcal//NONSGML v1.0//EN
CALSCALE:GREGORIAN
BEGIN:VEVENT
UID:69e5cf0d24d6e
DTSTART:20221207T203000Z
DTSTAMP:20260420T070029Z
DTEND:20221208T203000Z
LOCATION:Dubai
DESCRIPTION:Nano Tenchnology Event
URL;VALUE=URI:https://advancedmaterials.annualcongress.com/
SUMMARY:13th International Conference on Advanced Materials and Nano 
  Science
END:VEVENT
END:VCALENDAR
